BEGIN:VCALENDAR
VERSION:2.0
PRODID:icalendar-ruby
CALSCALE:GREGORIAN
BEGIN:VEVENT
DTSTAMP:20260422T212040Z
UID:2dc82f65-77f8-4efa-a8d2-787ece7ee486
DTSTART:20220905T090000Z
DTEND:20220910T000000Z
SUMMARY:5-9 September 2022\, General Congress of the International Commissi
 on for Optics (ICO) and Conference of International Society on Optics With
 in Life Sciences (OWLS)\, Dresden\, Germany
URL;VALUE=URI:https://www.laserlab-europe.eu/events-1/conferences/conferenc
 e-calendar/5-9-september-2022-general-congress-of-the-international-commis
 sion-for-optics-ico-and-conference-of-international-society-on-optics-with
 in-life-sciences-owls-dresden-germany
END:VEVENT
END:VCALENDAR
