BEGIN:VCALENDAR
VERSION:2.0
PRODID:icalendar-ruby
CALSCALE:GREGORIAN
BEGIN:VEVENT
DTSTAMP:20260421T075428Z
UID:35280d6e-7716-4b8e-a0fd-7c0bded1a792
DTSTART:20230905T090000Z
DTEND:20230909T000000Z
SUMMARY:5-8 September 2023\, Iberian Joint Meeting on Atomic and Molecular 
 Physics (IBER 2023)\, Coimbra\, Portugal
URL;VALUE=URI:https://www.laserlab-europe.eu/events-1/conferences/conferenc
 e-calendar/5-8-september-2023-iberian-joint-meeting-on-atomic-and-molecula
 r-physics-iber-2023-coimbra-portugal
END:VEVENT
END:VCALENDAR
