BEGIN:VCALENDAR
VERSION:2.0
PRODID:icalendar-ruby
CALSCALE:GREGORIAN
BEGIN:VEVENT
DTSTAMP:20260420T225501Z
UID:a0dc76cb-ccbf-48b3-8cc1-05cc49d50d5b
DTSTART:20241105T090000Z
DTEND:20241109T000000Z
SUMMARY:5-8 November 2024\, Optics and Photonics in Sweden\, Gothenburg\, S
 weden
URL;VALUE=URI:https://www.laserlab-europe.eu/events/conferences/conference-
 calendar/5-8-november-2024-optics-and-photonics-in-sweden-gothenburg-swede
 n
END:VEVENT
END:VCALENDAR
