BEGIN:VCALENDAR
VERSION:2.0
PRODID:icalendar-ruby
CALSCALE:GREGORIAN
BEGIN:VEVENT
DTSTAMP:20260422T052323Z
UID:2f68e924-d81f-454e-ade7-8b999bdb4dd5
DTSTART:20220405T090000Z
DTEND:20220409T000000Z
SUMMARY:5-8 April 2022\, Nanometa - International Topical Meeting on Nanoph
 otonics and Metamaterials\, Seefeld\, Austria
URL;VALUE=URI:https://www.laserlab-europe.eu/events-1/conferences/conferenc
 e-calendar/5-8-april-2022-nanometa-international-topical-meeting-on-nanoph
 otonics-and-metamaterials-seefeld-austria
END:VEVENT
END:VCALENDAR
