BEGIN:VCALENDAR
VERSION:2.0
PRODID:icalendar-ruby
CALSCALE:GREGORIAN
BEGIN:VEVENT
DTSTAMP:20260422T215551Z
UID:b1b6605b-68bb-4dc9-95e4-4f4aa0175300
DTSTART:20221205T090000Z
DTEND:20221208T000000Z
DESCRIPTION:Postponed to December 5th-7th\, 2022
LOCATION:155\, Eliezer Peri
SUMMARY:5-7 December 2022\, Conference on High Intensity Laser and Attoseco
 nd science in Israel (CHILI2022)\, Tel-Aviv\, Israel
URL;VALUE=URI:https://www.laserlab-europe.eu/events-1/conferences/conferenc
 e-calendar/5-7-december-2022-conference-on-high-intensity-laser-and-attose
 cond-science-in-israel-chili2022-tel-aviv-israel
END:VEVENT
END:VCALENDAR
