BEGIN:VCALENDAR
VERSION:2.0
PRODID:icalendar-ruby
CALSCALE:GREGORIAN
BEGIN:VEVENT
DTSTAMP:20260422T193821Z
UID:4d579226-3f75-4e6e-b037-03611a01e86d
DTSTART:20240905T090000Z
DTEND:20240907T000000Z
SUMMARY:5-6 September 2024\, Royal Society of Chemistry's Photophysics and 
 Photochemistry Group Meeting\, Sheffield\, UK
URL;VALUE=URI:https://www.laserlab-europe.eu/events/conferences/conference-
 calendar/5-6-september-2024-royal-society-of-chemistrys-photophysics-and-p
 hotochemistry-group-meeting-sheffield-uk
END:VEVENT
END:VCALENDAR
