BEGIN:VCALENDAR
VERSION:2.0
PRODID:icalendar-ruby
CALSCALE:GREGORIAN
BEGIN:VEVENT
DTSTAMP:20260421T081405Z
UID:81a48050-46bc-44ef-8832-94b5d2246ad9
DTSTART:20221104T090000Z
DTEND:20221105T000000Z
DESCRIPTION:Speaker: Eleftherios Goulielmakis (Rostock\, Germany)\; 3pm Lon
 don time
SUMMARY:4 November 2022\, Atto Fridays seminar series: Attosecond Physics w
 ith Synthesized Light Transients\, online
URL;VALUE=URI:https://www.laserlab-europe.eu/events-1/conferences/conferenc
 e-calendar/4-november-2022-atto-fridays-seminar-series-attosecond-physics-
 with-synthesized-light-transients-online
END:VEVENT
END:VCALENDAR
