BEGIN:VCALENDAR
VERSION:2.0
PRODID:icalendar-ruby
CALSCALE:GREGORIAN
BEGIN:VEVENT
DTSTAMP:20260420T010958Z
UID:f1832f2f-ee1b-414b-9894-9a0be4849e26
DTSTART:20231204T090000Z
DTEND:20231205T000000Z
DESCRIPTION:Speaker: Henry Chapman (DESY) -- at 17:00 CET online
SUMMARY:4 December 2023\, FELs of Europe tutorial: Serial crystallography a
 nd diffraction with XFEL pulses
URL;VALUE=URI:https://www.laserlab-europe.eu/events/conferences/conference-
 calendar/4-december-2023-fels-of-europe-tutorial-serial-crystallography-an
 d-diffraction-with-xfel-pulses
END:VEVENT
END:VCALENDAR
