BEGIN:VCALENDAR
VERSION:2.0
PRODID:icalendar-ruby
CALSCALE:GREGORIAN
BEGIN:VEVENT
DTSTAMP:20260420T194438Z
UID:eb5fe71a-c10f-4450-9a5b-9fe4d7b5cd9d
DTSTART:20220404T150000Z
DTEND:20220404T163000Z
DESCRIPTION:Speaker: Jens Biegert (ICFO\, Institute of Photonic Sciences\, 
 Barcelona)
SUMMARY:4 April 2022\, FELs of Europe tutorial: Prospects with attosecond t
 echnology and ultrafast x-rays
URL;VALUE=URI:https://www.laserlab-europe.eu/events-1/conferences/conferenc
 e-calendar/4-april-2022-fels-of-europe-tutorial-prospects-with-attosecond-
 technology-and-ultrafast-x-rays
END:VEVENT
END:VCALENDAR
