BEGIN:VCALENDAR
VERSION:2.0
PRODID:icalendar-ruby
CALSCALE:GREGORIAN
BEGIN:VEVENT
DTSTAMP:20260422T014657Z
UID:7f3a6872-5348-4a63-be26-e5e7dbea6315
DTSTART:20220904T090000Z
DTEND:20220910T000000Z
SUMMARY:4-9 September 2022\, International Conference on Dynamical Processe
 s in Excited States of Solids - DPC'22\, Wroclaw\, Poland
URL;VALUE=URI:https://www.laserlab-europe.eu/events-1/conferences/conferenc
 e-calendar/4-9-september-2022-international-conference-on-dynamical-proces
 ses-in-excited-states-of-solids-dpc22-wroclaw-poland
END:VEVENT
END:VCALENDAR
