BEGIN:VCALENDAR
VERSION:2.0
PRODID:icalendar-ruby
CALSCALE:GREGORIAN
BEGIN:VEVENT
DTSTAMP:20260421T192534Z
UID:cbcfbf9e-9cdd-492b-a296-17d7baa64bb7
DTSTART:20240204T090000Z
DTEND:20240210T000000Z
SUMMARY:4-9 February 2024\, Gordon Research Conference on Ultrafast Phenome
 na in Cooperative Systems\, Lucca\, Italy
URL;VALUE=URI:https://www.laserlab-europe.eu/events-1/conferences/conferenc
 e-calendar/4-9-february-2024-gordon-research-conference-on-ultrafast-pheno
 mena-in-cooperative-systems-lucca-italy
END:VEVENT
END:VCALENDAR
