BEGIN:VCALENDAR
VERSION:2.0
PRODID:icalendar-ruby
CALSCALE:GREGORIAN
BEGIN:VEVENT
DTSTAMP:20260420T193138Z
UID:0760e723-7a6a-46d9-9842-8ae22726af1f
DTSTART:20240204T090000Z
DTEND:20240209T100000Z
SUMMARY:4-9 February 2024\, Gordon Research Conference "Molecular and Ionic
  Clusters: Structure\, Reactivity and Dynamics of Clusters"\, Ventura\, CA
 \, USA
URL;VALUE=URI:https://www.laserlab-europe.eu/events/conferences/conference-
 calendar/4-9-february-2024-gordon-research-conference-molecular-and-ionic-
 clusters-structure-reactivity-and-dynamics-of-clusters-ventura-ca-usa
END:VEVENT
END:VCALENDAR
