BEGIN:VCALENDAR
VERSION:2.0
PRODID:icalendar-ruby
CALSCALE:GREGORIAN
BEGIN:VEVENT
DTSTAMP:20260420T144327Z
UID:9ac34016-6e88-401c-ba79-da3ea930bc1b
DTSTART:20240804T090000Z
DTEND:20240810T000000Z
SUMMARY:4-9 August 2024\, Gordon Research Conference (GRC) on Vibrational S
 pectroscopy\, Rhode Island\, USA
URL;VALUE=URI:https://www.laserlab-europe.eu/events/conferences/conference-
 calendar/4-9-august-2024-gordon-research-conference-grc-on-vibrational-spe
 ctroscopy-rhode-island-usa
END:VEVENT
END:VCALENDAR
