BEGIN:VCALENDAR
VERSION:2.0
PRODID:icalendar-ruby
CALSCALE:GREGORIAN
BEGIN:VEVENT
DTSTAMP:20260422T193627Z
UID:cdd9733a-cc7b-4f8f-9d09-0586daf33c82
DTSTART:20230904T090000Z
DTEND:20230909T000000Z
SUMMARY:4-8 September 2023\, MiniColloquium "Femtosecond Photoemission Spec
 troscopy in Charge Ordered Materials"\, Milan\, Italy
URL;VALUE=URI:https://www.laserlab-europe.eu/events-1/conferences/conferenc
 e-calendar/4-8-september-2023-minicolloquium-femtosecond-photoemission-spe
 ctroscopy-in-charge-ordered-materials-milan-italy
END:VEVENT
END:VCALENDAR
