BEGIN:VCALENDAR
VERSION:2.0
PRODID:icalendar-ruby
CALSCALE:GREGORIAN
BEGIN:VEVENT
DTSTAMP:20260422T235549Z
UID:423c7a3d-e45f-4fa8-945d-1d4f140ab31a
DTSTART:20230904T090000Z
DTEND:20230909T000000Z
SUMMARY:4-8 September 2023\, Mini-Colloquium "Advanced photoemission studie
 s of 2D and quantum materials" at CMD30 FisMat2023\, Milan\, Italy
URL;VALUE=URI:https://www.laserlab-europe.eu/events-1/conferences/conferenc
 e-calendar/4-8-september-2023-mini-colloquium-advanced-photoemission-studi
 es-of-2d-and-quantum-materials-at-cmd30-fismat2023-milan-italy
END:VEVENT
END:VCALENDAR
