BEGIN:VCALENDAR
VERSION:2.0
PRODID:icalendar-ruby
CALSCALE:GREGORIAN
BEGIN:VEVENT
DTSTAMP:20260420T134541Z
UID:772ce55f-8e3a-42a1-a97f-3762b76b0863
DTSTART:20230604T090000Z
DTEND:20230609T000000Z
SUMMARY:4-8 June 2023\, CECAM/Psi-k Flagship School on Path Integral Quantu
 m Mechanics\, Tel Aviv\, Israel
URL;VALUE=URI:https://www.laserlab-europe.eu/events-1/conferences/conferenc
 e-calendar/4-8-june-2023-cecam-psi-k-flagship-school-on-path-integral-quan
 tum-mechanics-tel-aviv-israel
END:VEVENT
END:VCALENDAR
