BEGIN:VCALENDAR
VERSION:2.0
PRODID:icalendar-ruby
CALSCALE:GREGORIAN
BEGIN:VEVENT
DTSTAMP:20260422T070932Z
UID:4d2b1cef-2259-43b7-a4df-11dc0fb116e8
DTSTART:20230904T090000Z
DTEND:20230908T000000Z
SUMMARY:4-7 September 2023\, Laser-Plasmas Summer School (LaPLaSS) on High-
 Intensity laser-plasma processes and related applications\, Salamanca\, Sp
 ain
URL;VALUE=URI:https://www.laserlab-europe.eu/events-1/conferences/conferenc
 e-calendar/4-7-september-2023-laser-plasmas-summer-school-laplass-on-high-
 intensity-laser-plasma-processes-and-related-applications-salamanca-spain
END:VEVENT
END:VCALENDAR
