BEGIN:VCALENDAR
VERSION:2.0
PRODID:icalendar-ruby
CALSCALE:GREGORIAN
BEGIN:VEVENT
DTSTAMP:20260421T073642Z
UID:68db4454-cf87-43c2-9c63-70ae52520084
DTSTART:20220704T090000Z
DTEND:20220706T000000Z
SUMMARY:4-5 July 2022\, LULI2000 and Apollon User Group Meeting\, Ecole Pol
 ytechnique\, Palaiseau\, France
URL;VALUE=URI:https://www.laserlab-europe.eu/events-1/conferences/conferenc
 e-calendar/4-5-july-2022-luli2000-and-apollon-user-group-meeting-ecole-pol
 ytechnique
END:VEVENT
END:VCALENDAR
