BEGIN:VCALENDAR
VERSION:2.0
PRODID:icalendar-ruby
CALSCALE:GREGORIAN
BEGIN:VEVENT
DTSTAMP:20260421T050858Z
UID:d11333d6-ae56-42ae-8333-03f98feaf922
DTSTART:20230531T090000Z
DTEND:20230603T000000Z
LOCATION:3700\, San Martin Drive
SUMMARY:31 May - 2 June 2023\, Astrochemistry at High Resolution: Faraday D
 iscussion\, Baltimore\, Maryland\, USA
URL;VALUE=URI:https://www.laserlab-europe.eu/events-1/conferences/conferenc
 e-calendar/31-may-2-june-2023-astrochemistry-at-high-resolution-faraday-di
 scussion-baltimore-maryland-usa
END:VEVENT
END:VCALENDAR
