BEGIN:VCALENDAR
VERSION:2.0
PRODID:icalendar-ruby
CALSCALE:GREGORIAN
BEGIN:VEVENT
DTSTAMP:20260422T062522Z
UID:885e78ea-b583-4d03-892d-23855acbedd9
DTSTART:20250331T090000Z
DTEND:20250403T000000Z
SUMMARY:31 March - 2 April 2025\, CCPBioSim/CCP5 Conference on Multiscale M
 odelling of Condensed Phase and Biological Systems\, Manchester\, UK
URL;VALUE=URI:https://www.laserlab-europe.eu/events/conferences/conference-
 calendar/31-march-2-april-2025-ccpbiosim-ccp5-conference-on-multiscale-mod
 elling-of-condensed-phase-and-biological-systems-manchester-uk
END:VEVENT
END:VCALENDAR
