BEGIN:VCALENDAR
VERSION:2.0
PRODID:icalendar-ruby
CALSCALE:GREGORIAN
BEGIN:VEVENT
DTSTAMP:20260420T150249Z
UID:acb7ccba-63bd-4796-ad31-db11478546f0
DTSTART:20240930T090000Z
DTEND:20241005T000000Z
SUMMARY:30 September - 4 October 2024\, New Generation of Strongly Correlat
 ed Electron System (NGSCES) conference\, Platja d'Aro\, Spain
URL;VALUE=URI:https://www.laserlab-europe.eu/events/conferences/conference-
 calendar/30-september-4-october-2024-new-generation-of-strongly-correlated
 -electron-system-ngsces-conference-platja-daro-spain
END:VEVENT
END:VCALENDAR
