BEGIN:VCALENDAR
VERSION:2.0
PRODID:icalendar-ruby
CALSCALE:GREGORIAN
BEGIN:VEVENT
DTSTAMP:20260420T145331Z
UID:ffc7bf97-9063-4a8c-b0a6-6c051709949d
DTSTART:20221030T090000Z
DTEND:20221105T000000Z
SUMMARY:30 October - 4 November 2022\, International Meeting on Stereodynam
 ics\, Rethymnon\, Crete\, Greece
URL;VALUE=URI:https://www.laserlab-europe.eu/events-1/conferences/conferenc
 e-calendar/30-october-4-november-2022-international-meeting-on-stereodynam
 ics-rethymnon-crete-greece
END:VEVENT
END:VCALENDAR
