BEGIN:VCALENDAR
VERSION:2.0
PRODID:icalendar-ruby
CALSCALE:GREGORIAN
BEGIN:VEVENT
DTSTAMP:20260420T010959Z
UID:e0b5f5db-75c5-4e80-b59a-a81f1ea8c41f
DTSTART:20231130T090000Z
DTEND:20231202T000000Z
DESCRIPTION:
SUMMARY:30 November - 1 December 2023\, Nanoscale transport phenomena (NTP)
 \, Trieste\, Italy
URL;VALUE=URI:https://www.laserlab-europe.eu/events-1/conferences/conferenc
 e-calendar/30-november-1-december-2023-nanoscale-transport-phenomena-ntp-t
 rieste-italy
END:VEVENT
END:VCALENDAR
