BEGIN:VCALENDAR
VERSION:2.0
PRODID:icalendar-ruby
CALSCALE:GREGORIAN
BEGIN:VEVENT
DTSTAMP:20260423T004627Z
UID:08e8a662-e9e9-4792-84a3-f1ddd5728686
DTSTART:20220530T090000Z
DTEND:20220604T000000Z
SUMMARY:30 May - 3 June 2022\, Annual Meeting of the APS Division of Atomic
 \, Molecular and Optical Physics - DAMOP 2022\, Orlando\, Florida\, USA
URL;VALUE=URI:https://www.laserlab-europe.eu/events-1/conferences/conferenc
 e-calendar/30-may-3-june-2022-annual-meeting-of-the-aps-division-of-atomic
 -molecular-and-optical-physics-damop-2022-orlando-florida-usa
END:VEVENT
END:VCALENDAR
