BEGIN:VCALENDAR
VERSION:2.0
PRODID:icalendar-ruby
CALSCALE:GREGORIAN
BEGIN:VEVENT
DTSTAMP:20260420T130410Z
UID:30fc84f8-a6b7-413f-9411-5c5f83d5dbcc
DTSTART:20240630T090000Z
DTEND:20240706T000000Z
DESCRIPTION:test
SUMMARY:30 June - 5 July 2024\, European Conference on the Dynamics of Mole
 cular Systems (MOLEC 2024)\, Aarhus\, Denmark
URL;VALUE=URI:https://www.laserlab-europe.eu/events-1/conferences/conferenc
 e-calendar/30-june-5-july-2024-european-conference-on-the-dynamics-of-mole
 cular-systems-molec-2024-aarhus-denmark
END:VEVENT
END:VCALENDAR
