BEGIN:VCALENDAR
VERSION:2.0
PRODID:icalendar-ruby
CALSCALE:GREGORIAN
BEGIN:VEVENT
DTSTAMP:20260422T201241Z
UID:c76bd619-365e-426f-a3ae-c195a57f0ad8
DTSTART:20250630T090000Z
DTEND:20250705T000000Z
SUMMARY:30 June - 4 July 2025\, European Conference on Atoms\, Molecules\, 
 and Photons (ECAMP)\, Innsbruck\, Austria
URL;VALUE=URI:https://www.laserlab-europe.eu/events/conferences/conference-
 calendar/30-june-4-july-2025-european-conference-on-atoms-molecules-and-ph
 otons-ecamp-innsbruck-austria
END:VEVENT
END:VCALENDAR
