BEGIN:VCALENDAR
VERSION:2.0
PRODID:icalendar-ruby
CALSCALE:GREGORIAN
BEGIN:VEVENT
DTSTAMP:20260422T173712Z
UID:1ed7559d-e118-4ae5-9ed9-244178499eb8
DTSTART:20230730T090000Z
DTEND:20230805T000000Z
LOCATION:35/37\, Garystraße
SUMMARY:30 July - 4 August 2023\, Femtochemistry Conference - FEMTO15\, Ber
 lin\, Germany
URL;VALUE=URI:https://www.laserlab-europe.eu/events-1/conferences/conferenc
 e-calendar/30-july-4-august-2023-femto15-berlin-germany
END:VEVENT
END:VCALENDAR
