BEGIN:VCALENDAR
VERSION:2.0
PRODID:icalendar-ruby
CALSCALE:GREGORIAN
BEGIN:VEVENT
DTSTAMP:20260422T123115Z
UID:f8b19338-4720-4dc7-8026-80a7d8cb4cd2
DTSTART:20220603T090000Z
DTEND:20220604T000000Z
SUMMARY:3 June 2022\, Women in Renewable Energy (WiRE)\, Strasbourg\, Franc
 e
URL;VALUE=URI:https://www.laserlab-europe.eu/events-1/conferences/conferenc
 e-calendar/3-june-2022-women-in-renewable-energy-wire-strasbourg-france
END:VEVENT
END:VCALENDAR
