BEGIN:VCALENDAR
VERSION:2.0
PRODID:icalendar-ruby
CALSCALE:GREGORIAN
BEGIN:VEVENT
DTSTAMP:20260421T230425Z
UID:3d473847-a949-40f3-8b69-20a300b71cb4
DTSTART:20220603T090000Z
DTEND:20220604T000000Z
DESCRIPTION:Speaker: Dr Balazs Major (Extreme Light Infrastructure Attoseco
 nd Light Pulse Source (ELI ALPS) and University of Szeged)\, at 3pm London
  time.
SUMMARY:3 June 2022\, Atto Fridays: Development of attosecond beamlines dri
 ven by cutting-edge lasers\, online
URL;VALUE=URI:https://www.laserlab-europe.eu/events-1/conferences/conferenc
 e-calendar/3-june-2022-atto-fridays-development-of-attosecond-beamlines-dr
 iven-by-cutting-edge-lasers-online
END:VEVENT
END:VCALENDAR
