BEGIN:VCALENDAR
VERSION:2.0
PRODID:icalendar-ruby
CALSCALE:GREGORIAN
BEGIN:VEVENT
DTSTAMP:20260423T001551Z
UID:8cd1e17c-566f-4ef3-994a-689085612527
DTSTART:20230403T090000Z
DTEND:20230404T000000Z
DESCRIPTION:Speaker: Emanuelle Jal (Sorbonne Université)\, 17:00 CET
SUMMARY:3 April 2023\, FELs of Europe Tutorial: Probing ultrafast magnetiza
 tion thanks to ultrashort XUV and soft X-ray pulses\, online
URL;VALUE=URI:https://www.laserlab-europe.eu/events-1/conferences/conferenc
 e-calendar/3-april-2023-fels-of-europe-tutorial-probing-ultrafast-magnetiz
 ation-thanks-to-ultrashort-xuv-and-soft-x-ray-pulses-online
END:VEVENT
END:VCALENDAR
