BEGIN:VCALENDAR
VERSION:2.0
PRODID:icalendar-ruby
CALSCALE:GREGORIAN
BEGIN:VEVENT
DTSTAMP:20260420T084208Z
UID:162bd998-e167-400c-8bb3-72e453da5bf3
DTSTART:20240203T090000Z
DTEND:20240210T000000Z
SUMMARY:3-9 February 2024\, Gordon Research Conference and Seminar Molecula
 r and Ionic Clusters\, Ventura\, U.S.A.
URL;VALUE=URI:https://www.laserlab-europe.eu/events/conferences/conference-
 calendar/3-9-february-2024-gordon-research-conference-and-seminar-molecula
 r-and-ionic-clusters-ventura-u-s-a
END:VEVENT
END:VCALENDAR
