BEGIN:VCALENDAR
VERSION:2.0
PRODID:icalendar-ruby
CALSCALE:GREGORIAN
BEGIN:VEVENT
DTSTAMP:20260420T005057Z
UID:7be83a5b-f92b-4b25-bb87-7c59667b7193
DTSTART:20230903T090000Z
DTEND:20230909T000000Z
SUMMARY:3-8 September 2023\, Workshop: Quantum Dynamics & Spectroscopy of M
 aterials and Biosystems\, Les Houches\, France
URL;VALUE=URI:https://www.laserlab-europe.eu/events-1/conferences/conferenc
 e-calendar/3-8-september-2023-workshop-quantum-dynamics-spectroscopy-of-ma
 terials-and-biosystems-les-houches-france
END:VEVENT
END:VCALENDAR
