BEGIN:VCALENDAR
VERSION:2.0
PRODID:icalendar-ruby
CALSCALE:GREGORIAN
BEGIN:VEVENT
DTSTAMP:20260422T193546Z
UID:89e38a34-7bf0-4894-85fb-3e73af32d6c7
DTSTART:20230903T090000Z
DTEND:20230909T000000Z
DESCRIPTION:Pre-seminar for PhD students from September 2nd to 3rd\, 2023
LOCATION:43\, Invalidenstraße
SUMMARY:3-8 September 2023\, International Symposium of Small Particles and
  Inorganic Clusters - ISSPIC XXI\, Berlin\, Germany
URL;VALUE=URI:https://www.laserlab-europe.eu/events-1/conferences/conferenc
 e-calendar/3-8-september-2023-international-symposium-of-small-particles-a
 nd-inorganic-clusters-isspic-xxi-berlin-germany
END:VEVENT
END:VCALENDAR
