BEGIN:VCALENDAR
VERSION:2.0
PRODID:icalendar-ruby
CALSCALE:GREGORIAN
BEGIN:VEVENT
DTSTAMP:20260423T031656Z
UID:dc54f2a3-2b2d-4bdd-bc4f-21a48163d9c9
DTSTART:20230903T090000Z
DTEND:20230908T000000Z
SUMMARY:3-7 September 2023\, Materials Science and Technology in Europe - F
 EMS EUROMAT\, Frankfurt am Main\, Germany & Online
URL;VALUE=URI:https://www.laserlab-europe.eu/events-1/conferences/conferenc
 e-calendar/3-7-september-2023-materials-science-and-technology-in-europe-f
 ems-euromat-frankfurt-am-main-germany-online
END:VEVENT
END:VCALENDAR
