BEGIN:VCALENDAR
VERSION:2.0
PRODID:icalendar-ruby
CALSCALE:GREGORIAN
BEGIN:VEVENT
DTSTAMP:20260422T215552Z
UID:31f53395-db6c-4fb0-985e-f47c0a7af95f
DTSTART:20240603T090000Z
DTEND:20240608T000000Z
SUMMARY:3-7 June 2024\, QUADMARTS (QUAntitative Detection of Molecular And 
 Radical Trace Species) Summer School\, Saint Florent\, Corsica\, France
URL;VALUE=URI:https://www.laserlab-europe.eu/events/conferences/conference-
 calendar/3-7-june-2024-quadmarts-quantitative-detection-of-molecular-and-r
 adical-trace-species-summer-school-saint-florent-corsica-france
END:VEVENT
END:VCALENDAR
