BEGIN:VCALENDAR
VERSION:2.0
PRODID:icalendar-ruby
CALSCALE:GREGORIAN
BEGIN:VEVENT
DTSTAMP:20260422T193728Z
UID:d34e2edf-2a5c-4603-8084-70bc2a375c7b
DTSTART:20240603T090000Z
DTEND:20240608T000000Z
SUMMARY:3-7 June 2024\, Kudowa Summer School "Towards Fusion Energy"\, Kudo
 wa-Zdrój\, Poland
URL;VALUE=URI:https://www.laserlab-europe.eu/events/conferences/conference-
 calendar/3-7-june-2024-kudowa-summer-school-towards-fusion-energy-kudowa-z
 droj-poland
END:VEVENT
END:VCALENDAR
