BEGIN:VCALENDAR
VERSION:2.0
PRODID:icalendar-ruby
CALSCALE:GREGORIAN
BEGIN:VEVENT
DTSTAMP:20260422T191602Z
UID:8737fee8-706d-4815-a750-b84211098d81
DTSTART:20230703T090000Z
DTEND:20230708T000000Z
SUMMARY:3-7 July 2023\, MD-GAS training school: Theory and modelling of dyn
 amics of molecules and clusters in the gas phase\, Gdansk\, Poland
URL;VALUE=URI:https://www.laserlab-europe.eu/events-1/conferences/conferenc
 e-calendar/3-7-july-2023-md-gas-training-school-theory-and-modelling-of-dy
 namics-of-molecules-and-clusters-in-the-gas-phase-gdansk-poland
END:VEVENT
END:VCALENDAR
