BEGIN:VCALENDAR
VERSION:2.0
PRODID:icalendar-ruby
CALSCALE:GREGORIAN
BEGIN:VEVENT
DTSTAMP:20260420T173441Z
UID:7ddc8b3b-2c4b-49e4-9528-349959ade207
DTSTART:20230703T090000Z
DTEND:20230708T000000Z
SUMMARY:3-7 July 2023\, FORTH-Onassis Foundation Lectures in Physics: Appli
 cations of Extreme Light\, Heraklion\, Crete\, Greece
URL;VALUE=URI:https://www.laserlab-europe.eu/events-1/conferences/conferenc
 e-calendar/3-7-july-2023-forth-onassis-foundation-lectures-in-physics-appl
 ications-of-extreme-light
END:VEVENT
END:VCALENDAR
