BEGIN:VCALENDAR
VERSION:2.0
PRODID:icalendar-ruby
CALSCALE:GREGORIAN
BEGIN:VEVENT
DTSTAMP:20260421T072017Z
UID:37ca81ea-01de-490f-a34e-6e6ec675405f
DTSTART:20230903T090000Z
DTEND:20230907T000000Z
SUMMARY:3-6 September 2023\, EuChemS Conference on Green and Sustainable Ch
 emistry (EuGSC)\, Salerno\, Italy
URL;VALUE=URI:https://www.laserlab-europe.eu/events-1/conferences/conferenc
 e-calendar/3-6-september-2023-euchems-conference-on-green-and-sustainable-
 chemistry-eugsc-salerno-italy
END:VEVENT
END:VCALENDAR
