BEGIN:VCALENDAR
VERSION:2.0
PRODID:icalendar-ruby
CALSCALE:GREGORIAN
BEGIN:VEVENT
DTSTAMP:20260421T095643Z
UID:ecb1aba0-1548-4a48-b327-9b941c660a33
DTSTART:20230403T090000Z
DTEND:20230407T000000Z
SUMMARY:3-6 April 2023\, Tulip VIII Summer School on Modern Developments in
  Spectroscopy\, Noordwijk\, The Netherlands
URL;VALUE=URI:https://www.laserlab-europe.eu/events-1/conferences/conferenc
 e-calendar/3-6-april-2023-tulip-viii-summer-school-on-modern-developments-
 in-spectroscopy-noordwijk-the-netherlands
END:VEVENT
END:VCALENDAR
