BEGIN:VCALENDAR
VERSION:2.0
PRODID:icalendar-ruby
CALSCALE:GREGORIAN
BEGIN:VEVENT
DTSTAMP:20260422T161211Z
UID:4f387da6-56e1-4db1-b472-9c0645754334
DTSTART:20231103T090000Z
DTEND:20231106T000000Z
SUMMARY:3-5 November 2023\, 37th Symposium on Chemical Physics at the Unive
 rsity of Waterloo\, Canada
URL;VALUE=URI:https://www.laserlab-europe.eu/events/conferences/conference-
 calendar/3-5-november-2023-37th-symposium-on-chemical-physics-at-the-unive
 rsity-of-waterloo-canada
END:VEVENT
END:VCALENDAR
