BEGIN:VCALENDAR
VERSION:2.0
PRODID:icalendar-ruby
CALSCALE:GREGORIAN
BEGIN:VEVENT
DTSTAMP:20260422T125453Z
UID:7b7390d5-9e83-48e7-8f19-cdc1f10881f9
DTSTART:20240103T090000Z
DTEND:20240106T000000Z
SUMMARY:3-5 January 2024\, Annual Spectroscopy and Dynamics Group Meeting\,
  Leicester\, UK
URL;VALUE=URI:https://www.laserlab-europe.eu/events/conferences/conference-
 calendar/3-5-january-2024-annual-spectroscopy-and-dynamics-group-meeting-l
 eicester-uk
END:VEVENT
END:VCALENDAR
