BEGIN:VCALENDAR
VERSION:2.0
PRODID:icalendar-ruby
CALSCALE:GREGORIAN
BEGIN:VEVENT
DTSTAMP:20260420T042741Z
UID:84250b67-5d96-478c-8c2e-ad396de4dc52
DTSTART:20241203T090000Z
DTEND:20241205T000000Z
SUMMARY:3-4 December 2024\, New Trends in Linear and Non-linear Spectroscop
 ic Chirality Studies (NETLINCS)\, Trieste\, Italy
URL;VALUE=URI:https://www.laserlab-europe.eu/events/conferences/conference-
 calendar/3-4-december-2024-new-trends-in-linear-and-non-linear-spectroscop
 ic-chirality-studies-netlincs-trieste-italy
END:VEVENT
END:VCALENDAR
