BEGIN:VCALENDAR
VERSION:2.0
PRODID:icalendar-ruby
CALSCALE:GREGORIAN
BEGIN:VEVENT
DTSTAMP:20260421T220930Z
UID:7158a0d6-252d-464a-838c-e361f38deb98
DTSTART:20240929T090000Z
DTEND:20241005T000000Z
SUMMARY:29 September - 4 October 2024\, International Conference on Laser A
 blation - COLA 2024\, Crete\, Greece
URL;VALUE=URI:https://www.laserlab-europe.eu/events/conferences/conference-
 calendar/29-september-4-october-2024-international-conference-on-laser-abl
 ation-cola-2024-crete-greece
END:VEVENT
END:VCALENDAR
