BEGIN:VCALENDAR
VERSION:2.0
PRODID:icalendar-ruby
CALSCALE:GREGORIAN
BEGIN:VEVENT
DTSTAMP:20260422T193730Z
UID:65ff87d5-cafc-44d4-b17d-7784f1fb8fd4
DTSTART:20230529T090000Z
DTEND:20230603T000000Z
SUMMARY:29 May - 2 June 2023\, Spring Meeting of the European Materials Res
 earch Society (E-MRS)\, Strasbourg\, France
URL;VALUE=URI:https://www.laserlab-europe.eu/events-1/conferences/conferenc
 e-calendar/29-may-2-june-2023-spring-meeting-of-the-european-materials-res
 earch-society-e-mrs-strasbourg-france
END:VEVENT
END:VCALENDAR
