BEGIN:VCALENDAR
VERSION:2.0
PRODID:icalendar-ruby
CALSCALE:GREGORIAN
BEGIN:VEVENT
DTSTAMP:20260421T210124Z
UID:1a3f2961-251f-4986-a794-7220478d0c0f
DTSTART:20240729T090000Z
DTEND:20240803T000000Z
SUMMARY:29 July - 2 August 2024\, Lorentz Center workshop: Neutral and Ion 
 Photochemistry in Planetary Atmospheres\, Leiden\, Netherlands
URL;VALUE=URI:https://www.laserlab-europe.eu/events/conferences/conference-
 calendar/29-july-2-august-2024-lorentz-center-workshop-neutral-and-ion-pho
 tochemistry-in-planetary-atmospheres-leiden-netherlands
END:VEVENT
END:VCALENDAR
