BEGIN:VCALENDAR
VERSION:2.0
PRODID:icalendar-ruby
CALSCALE:GREGORIAN
BEGIN:VEVENT
DTSTAMP:20260422T221843Z
UID:d0c4f9eb-bb13-446f-b048-13e00ba806bc
DTSTART:20220829T090000Z
DTEND:20220903T000000Z
SUMMARY:29 August - 2 September 2022\, International Conference on the Phys
 ics of Optical Materials and Devices - ICOM 2022\, Belgrade\, Serbia
URL;VALUE=URI:https://www.laserlab-europe.eu/events-1/conferences/conferenc
 e-calendar/29-august-2-september-2022-international-conference-on-the-phys
 ics-of-optical-materials-and-devices-icom-2022-belgrade-serbia
END:VEVENT
END:VCALENDAR
