BEGIN:VCALENDAR
VERSION:2.0
PRODID:icalendar-ruby
CALSCALE:GREGORIAN
BEGIN:VEVENT
DTSTAMP:20260421T094701Z
UID:bbdff408-b908-42e6-84bf-c77c5fcc6f71
DTSTART:20230829T090000Z
DTEND:20230902T000000Z
SUMMARY:29 August - 1 September 2023\, ELI Summer School - ELISS 2023\, Dol
 ní Břežany\, Czech Republic
URL;VALUE=URI:https://www.laserlab-europe.eu/events-1/conferences/conferenc
 e-calendar/29-august-1-september-2023-eli-summer-school-eliss-2023-dolni-b
 rezany-czech-republic
END:VEVENT
END:VCALENDAR
