BEGIN:VCALENDAR
VERSION:2.0
PRODID:icalendar-ruby
CALSCALE:GREGORIAN
BEGIN:VEVENT
DTSTAMP:20260420T122448Z
UID:5f02e847-5e27-45e3-b76c-973b16c4742e
DTSTART:20231129T090000Z
DTEND:20231201T000000Z
SUMMARY:29-30 November 2023\, The battery challenge at synchrotrons (BatSyn
 ch)\, Trieste\, Italy
URL;VALUE=URI:https://www.laserlab-europe.eu/events/conferences/conference-
 calendar/29-30-november-2023-the-battery-challenge-at-synchrotrons-batsync
 h-trieste-italy
END:VEVENT
END:VCALENDAR
