BEGIN:VCALENDAR
VERSION:2.0
PRODID:icalendar-ruby
CALSCALE:GREGORIAN
BEGIN:VEVENT
DTSTAMP:20260421T022840Z
UID:e5ff19a3-acd1-4312-9852-df0fc38b8af5
DTSTART:20220928T130000Z
DTEND:20220928T150000Z
DESCRIPTION:Speaker: Dr. Sandra D. Wiersma (IRAP\, Université de Toulouse 
 III - Paul Sabatier)
SUMMARY:28 September 2022\, Webinar Molecular Dynamics in the GAS phase (MD
 -GAS): "Hydrocarbon content in Si + C (star)dust growth processes"\, onlin
 e
URL;VALUE=URI:https://www.laserlab-europe.eu/events-1/conferences/conferenc
 e-calendar/28-september-2022-webinar-molecular-dynamics-in-the-gas-phase-m
 d-gas-hydrocarbon-content-in-si-c-star-dust-growth-processes-online
END:VEVENT
END:VCALENDAR
